BEGIN:VCALENDAR
PRODID: -//CFLIB.ORG//iCalUS()//EN
VERSION:2.0
METHOD:REQUEST
BEGIN:VTIMEZONE
BEGIN:STANDARD
DTSTART:20061101T020000
RRULE:FREQ=YEARLY;INTERVAL=1;BYDAY=1SU;BYMONTH=11
TZOFFSETFROM:-0400
TZOFFSETTO:-0500
TZNAME:Standard Time
END:STANDARD
BEGIN:DAYLIGHT
DTSTART:20060301T020000
RRULE:FREQ=YEARLY;INTERVAL=1;BYDAY=2SU;BYMONTH=3
TZOFFSETFROM:-0500
TZOFFSETTO:-0400
TZNAME:Daylight Savings Time
END:DAYLIGHT
END:VTIMEZONE
BEGIN:VEVENT
UID:1582720624294.CFLIB.ORG
ORGANIZER;CN=:MAILTO:
DTSTAMP:20200226T233704
DTSTART;TZID=Eastern Time:20200303T170000
DTEND;TZID=Eastern Time:20200303T173000
SUMMARY:RONIS REAL ESTATE - OFI/OPEN HOME - 11/8-10 Weigand Ave, BANKSTOWN, 2200
LOCATION:11/8-10 Weigand Ave, BANKSTOWN, 2200
DESCRIPTION:OFI/OPEN HOME - 11/8-10 Weigand Ave, BANKSTOWN, 2200\n\nTuesday 5:00PM-5:30PM\n\nClick the link for full listing information: http://ronisrealestate.com.au?/property/3388828
PRIORITY:1
TRANSP:OPAQUE
CLASS:PUBLIC
BEGIN:VALARM
TRIGGER:-PT30M
ACTION:DISPLAY
DESCRIPTION:Reminder
END:VALARM
END:VEVENT
END:VCALENDAR 