BEGIN:VCALENDAR
PRODID: -//CFLIB.ORG//iCalUS()//EN
VERSION:2.0
METHOD:REQUEST
BEGIN:VTIMEZONE
BEGIN:STANDARD
DTSTART:20061101T020000
RRULE:FREQ=YEARLY;INTERVAL=1;BYDAY=1SU;BYMONTH=11
TZOFFSETFROM:-0400
TZOFFSETTO:-0500
TZNAME:Standard Time
END:STANDARD
BEGIN:DAYLIGHT
DTSTART:20060301T020000
RRULE:FREQ=YEARLY;INTERVAL=1;BYDAY=2SU;BYMONTH=3
TZOFFSETFROM:-0500
TZOFFSETTO:-0400
TZNAME:Daylight Savings Time
END:DAYLIGHT
END:VTIMEZONE
BEGIN:VEVENT
UID:1582720552978.CFLIB.ORG
ORGANIZER;CN=:MAILTO:
DTSTAMP:20200226T233552
DTSTART;TZID=Eastern Time:20200229T150000
DTEND;TZID=Eastern Time:20200229T153000
SUMMARY:RONIS REAL ESTATE - OFI/OPEN HOME - 308 The Grand Pde, SANS SOUCI, 2219
LOCATION:308 The Grand Pde, SANS SOUCI, 2219
DESCRIPTION:OFI/OPEN HOME - 308 The Grand Pde, SANS SOUCI, 2219\n\nSaturday 3:00PM-3:30PM\n\nClick the link for full listing information: http://ronisrealestate.com.au?/property/3391400
PRIORITY:1
TRANSP:OPAQUE
CLASS:PUBLIC
BEGIN:VALARM
TRIGGER:-PT30M
ACTION:DISPLAY
DESCRIPTION:Reminder
END:VALARM
END:VEVENT
END:VCALENDAR 